BEGIN:VCALENDAR
VERSION:2.0
PRODID:-//ChamberMaster//Event Calendar 2.0//EN
METHOD:PUBLISH
X-PUBLISHED-TTL:P3D
REFRESH-INTERVAL:P3D
CALSCALE:GREGORIAN
BEGIN:VEVENT
DTSTART:20071018T163000Z
DTEND:20071018T183000Z
X-MICROSOFT-CDO-ALLDAYEVENT:FALSE
SUMMARY:TBPW ANNUAL FOOD FEST
DESCRIPTION:Tomball Business & Professional Women annual scholarship fundraiser. Local restaurants and caterers bring some of their best foods and beverages for us to sample. We will also have a silent auction and will draw the winners of our raffle.
X-ALT-DESC;FMTTYPE=text/html:Tomball Business & Professional Women annual scholarship fundraiser. Local restaurants and caterers bring some of their best foods and beverages for us to sample. We will also have a silent auction and will draw the winners of our raffle.
LOCATION:Tomball College Beckendorf Conference Center
UID:e.155.2316
SEQUENCE:3
DTSTAMP:20260422T011625Z
URL:https://business.tomballchamber.org/events/details/tbpw-annual-food-fest-10-18-2007-2316
END:VEVENT

END:VCALENDAR
