BEGIN:VCALENDAR
VERSION:2.0
PRODID:-//ChamberMaster//Event Calendar 2.0//EN
METHOD:PUBLISH
X-PUBLISHED-TTL:P3D
REFRESH-INTERVAL:P3D
CALSCALE:GREGORIAN
BEGIN:VEVENT
DTSTART:20220920T163000Z
DTEND:20220920T183000Z
X-MICROSOFT-CDO-ALLDAYEVENT:FALSE
SUMMARY:Taste of Tomball
DESCRIPTION:Want to sample the best local eats\, drinks and treats? Here is your chance! Taste of Tomball is back!! \n\nALL ARE WELCOME!\n\n\n\nTICKETS: $20 - ONLINE REGISTRATION HAS BEEN CLOSED\n\nYou are able to purchase tickets at the door of the event. \n\n\n\nThe event runs from 11:30 am to 1:30 pm and is a Come and Go Setting. \n\nSEE YOU THERE!!!!\n\n\n\nTHANK YOU SPONSORS!\n\n\n\nMain Street Sponsor: Texas Refrigeration & A/C Services\, LLC\n\nCommerce Street Sponsor: Shell Federal Credit Union\n\nMarket Street Sponsors: Backyard Oasis\, Raising Cane's\, Aloha Beauty Lounge\n\nRenewal By Andersen and Cross Country Acres\n\nTomball Economic Development Corporation and OMG Events!\n\n\n\nParticipating Restaurants:\n\nAll Forces Jerky\n\nBonfire Grill\n\nCaptain Brad's Coastal Kitchen\n\nChicken Salad Chick\n\nCraving Kernels Popcorn & Sweet Shoppe\n\nEvery-Bellies\n\nH-E-B\n\nHTeaO - Tomball\n\nMarco's Pizza\n\nMarket Street Cafe\n\nMel's Country Cafe\n\nRaising Cane's\n\nGianna Italian Kitchen\n\nReveille Barbecue Co.\n\nSmallcakes Tomball\n\nTejas Chocolate & Barbeque\n\nThe Original Rib Tickler\n\nThe Wheel Kitchen\n\nTomball Farmer's Market\n\nWhistle Stop Tea Room\n\nWillow Basket Catering
X-ALT-DESC;FMTTYPE=text/html:<p>Want to sample the best local eats\, drinks and treats? Here is your chance! Taste of Tomball is back!!&nbsp\;<br />\nALL ARE WELCOME!<br />\n<br />\n<strong><span style="color:#FF0000\;">TICKETS: $20 - ONLINE REGISTRATION HAS BEEN CLOSED<br />\nYou are able to purchase tickets&nbsp\;at the door of the event.&nbsp\;<br />\n<br />\nThe event runs from 11:30 am to 1:30 pm and is a Come and Go Setting.&nbsp\;</span></strong><br />\nSEE YOU THERE!!!!<br />\n<br />\n<font color="#ff0000"><b>THANK YOU SPONSORS!</b></font><br />\n<br />\n<b><span style="font-size:16px\;">Main Street Sponsor: Texas Refrigeration &amp\; A/C Services\, LLC</span><br />\nCommerce Street Sponsor: Shell Federal Credit Union<br />\nMarket Street Sponsors: Backyard Oasis\, Raising Cane&#39\;s\, Aloha Beauty Lounge<br />\nRenewal By Andersen and Cross Country Acres<br />\nTomball Economic Development Corporation and OMG Events!<br />\n<br />\nParticipating Restaurants:<br />\nAll Forces Jerky<br />\nBonfire Grill<br />\nCaptain Brad&#39\;s Coastal Kitchen<br />\nChicken Salad Chick<br />\nCraving Kernels Popcorn &amp\; Sweet Shoppe<br />\nEvery-Bellies<br />\nH-E-B<br />\nHTeaO - Tomball<br />\nMarco&#39\;s Pizza<br />\nMarket Street Cafe<br />\nMel&#39\;s Country Cafe<br />\nRaising Cane&#39\;s<br />\nGianna Italian Kitchen<br />\nReveille Barbecue Co.<br />\nSmallcakes Tomball<br />\nTejas Chocolate &amp\; Barbeque<br />\nThe Original Rib Tickler<br />\nThe Wheel Kitchen<br />\nTomball Farmer&#39\;s Market<br />\nWhistle Stop Tea Room<br />\nWillow Basket Catering</b></p>\n
LOCATION:Tomball VFW Hall 14408 Alice Rd. Tomball\, TX 77375
UID:e.155.35973
SEQUENCE:3
DTSTAMP:20260420T234523Z
URL:https://business.tomballchamber.org/events/details/taste-of-tomball-35973
END:VEVENT

END:VCALENDAR
