BEGIN:VCALENDAR
VERSION:2.0
PRODID:-//ChamberMaster//Event Calendar 2.0//EN
METHOD:PUBLISH
X-PUBLISHED-TTL:P3D
REFRESH-INTERVAL:P3D
CALSCALE:GREGORIAN
BEGIN:VEVENT
DTSTART:20080429T130000Z
DTEND:20080429T150000Z
X-MICROSOFT-CDO-ALLDAYEVENT:FALSE
SUMMARY:TAB Meeting - Houston Gulf Coast - Employment Law Update
DESCRIPTION:Hosted By Barhorst Insurance GroupContinental Breakfast providedEffective Discipline Termination Practices
X-ALT-DESC;FMTTYPE=text/html:<div>Hosted By Barhorst Insurance Group</div><div>Continental Breakfast provided</div><div>Effective Discipline Termination Practices</div>
LOCATION:Barhorst Insurance Group - 8220 Jones Road\, Suite 400Driving directions at www.big-usa.com
UID:e.155.2481
SEQUENCE:3
DTSTAMP:20260421T164831Z
URL:https://business.tomballchamber.org/events/details/tab-meeting-houston-gulf-coast-employment-law-update-04-29-2008-2481
END:VEVENT

END:VCALENDAR
