BEGIN:VCALENDAR
VERSION:2.0
PRODID:-//ChamberMaster//Event Calendar 2.0//EN
METHOD:PUBLISH
X-PUBLISHED-TTL:P3D
REFRESH-INTERVAL:P3D
CALSCALE:GREGORIAN
BEGIN:VEVENT
DTSTART;VALUE=DATE:20080607
DTEND;VALUE=DATE:20080608
TRANSP:TRANSPARENT
X-MICROSOFT-CDO-ALLDAYEVENT:TRUE
SUMMARY:Summer Reading Program Kickoff Party
DESCRIPTION:2 performances by John Erickson\, author of Hank the Cowdog\, will be at 1:00 PM and 2:30 PM. Free tickets are required to attend the performances and are available beginning May 31st. Also attending the party will be: Trevor the Timberwolf\, the Lone Star College-Tomball mascot\, Tomball High School's Cougar\, The Chick-fil-A Cow\, Harris County's GISMO\, Performers from Playhouse 1960's Seussical the Musical as well as Performers from Waller High School Box of Stars Theatre. Enjoy DDR\, Guitar Hero and Wii throughout the day.
X-ALT-DESC;FMTTYPE=text/html:2 performances by John Erickson\, author of Hank the Cowdog\, will be at 1:00 PM and 2:30 PM. Free tickets are required to attend the performances and are available beginning May 31st. Also attending the party will be: Trevor the Timberwolf\, the Lone Star College-Tomball mascot\, Tomball High School's Cougar\, The Chick-fil-A Cow\, Harris County's GISMO\, Performers from Playhouse 1960's Seussical the Musical as well as Performers from Waller High School Box of Stars Theatre. Enjoy DDR\, Guitar Hero and Wii throughout the day.  
LOCATION:Lone Star College - Tomball Community Library
UID:e.155.2485
SEQUENCE:3
DTSTAMP:20260421T110453Z
URL:https://business.tomballchamber.org/events/details/summer-reading-program-kickoff-party-06-07-2008-2485
END:VEVENT

END:VCALENDAR
