BEGIN:VCALENDAR
VERSION:2.0
PRODID:-//ChamberMaster//Event Calendar 2.0//EN
METHOD:PUBLISH
X-PUBLISHED-TTL:P3D
REFRESH-INTERVAL:P3D
CALSCALE:GREGORIAN
BEGIN:VEVENT
DTSTART;VALUE=DATE:20070703
DTEND;VALUE=DATE:20070729
TRANSP:TRANSPARENT
X-MICROSOFT-CDO-ALLDAYEVENT:TRUE
SUMMARY:Summer Family Retreat Camps
DESCRIPTION:Treat your family to a summer vacation that everyone will enjoy!  Attend one of our Summer Family Retreats for 5 days each week in July.  Each summer Circle Lake Retreat Center invites families to pray & play together on our beautiful grounds\, to get to know other families as we form a Christian community\, and to grow closer to God and one another through retreat activities.  If you're looking for an opportunity for your family to take a vacation that will make a difference in  your lives\, then Circle Lake is the place for you in July! The Summer Family Retreat Camps provide a low cost summer vacation with a purpose.  The retreat is facilitated by a staff of adults & teens and includes Masses and other liturgies\, skits\, songs\, scavenger hunts\, campfires\, opportunities for family sharing and small group activities for each age group.  The week focuses on a specific theme that children\, teens and adults can all relate to an is designed to strengthen your family's faith while providing space for a relaxing family vacation and time to enjoy the beautiful Circle Lake.
X-ALT-DESC;FMTTYPE=text/html:Treat your family to a summer vacation that everyone will enjoy!  Attend one of our Summer Family Retreats for 5 days each week in July.  Each summer Circle Lake Retreat Center invites families to pray & play together on our beautiful grounds\, to get to know other families as we form a Christian community\, and to grow closer to God and one another through retreat activities.  If you're looking for an opportunity for your family to take a vacation that will make a difference in  your lives\, then Circle Lake is the place for you in July! The Summer Family Retreat Camps provide a low cost summer vacation with a purpose.  The retreat is facilitated by a staff of adults & teens and includes Masses and other liturgies\, skits\, songs\, scavenger hunts\, campfires\, opportunities for family sharing and small group activities for each age group.  The week focuses on a specific theme that children\, teens and adults can all relate to an is designed to strengthen your family's faith while providing space for a relaxing family vacation and time to enjoy the beautiful Circle Lake.
LOCATION:Circle Lake Retreat Center 19000 Circle Lake Dr. Pinehurst\, TX 77362
UID:e.155.2239
SEQUENCE:3
DTSTAMP:20260422T061610Z
URL:https://business.tomballchamber.org/events/details/summer-family-retreat-camps-07-03-2007-2239
END:VEVENT

END:VCALENDAR
