BEGIN:VCALENDAR
VERSION:2.0
PRODID:-//ChamberMaster//Event Calendar 2.0//EN
METHOD:PUBLISH
X-PUBLISHED-TTL:P3D
REFRESH-INTERVAL:P3D
CALSCALE:GREGORIAN
BEGIN:VEVENT
DTSTART:20220604T150000Z
DTEND:20220604T190000Z
X-MICROSOFT-CDO-ALLDAYEVENT:FALSE
SUMMARY:Summer Exhibition Opening: Pearl Fincher Museum of Fine Arts
DESCRIPTION:The Pearl Fincher Museum of Fine Arts will launch their summer exhibition\, "No Limits: The Artistry of Bricks\," with exclusive opening day festivities on Saturday\, June 4. "No Limits: The Artistry of Bricks" is a free exhibition that includes more than 20 works of art made from LEGO  bricks. Guests can also make their own brick creations through a special hands-on area of the exhibition sponsored by AAUW North Harris County Branch. Opening day festivities include special guest Michael "Moto" Kanemoto\, a contestant on LEGO  Masters FOX Season 2\, art activities\, face painting\, a puppet show\, KAOW food truck and more. Museum members are invited from 10 a.m. to noon for a special sneak preview\, with the public opening from noon to 2 p.m. "No Limits: The Artistry of Bricks" continues through September 3\, with regular museum hours from 10 a.m. to 5 p.m. Tuesday through Saturday. Admission is FREE.
X-ALT-DESC;FMTTYPE=text/html:The Pearl Fincher Museum of Fine Arts will launch their summer exhibition\, &ldquo\;No Limits: The Artistry of Bricks\,&rdquo\; with exclusive opening day festivities on Saturday\, June 4. &ldquo\;No Limits: The Artistry of Bricks&rdquo\; is a free exhibition that includes more than 20 works of art made from LEGO&reg\; bricks. Guests can also make their own brick creations through a special hands-on area of the exhibition sponsored by AAUW North Harris County Branch. Opening day festivities include special guest Michael &ldquo\;Moto&rdquo\; Kanemoto\, a contestant on LEGO&reg\; Masters FOX Season 2\, art activities\, face painting\, a puppet show\, KAOW food truck and more. Museum members are invited from 10 a.m. to noon for a special sneak preview\, with the public opening from noon to 2 p.m. &ldquo\;No Limits: The Artistry of Bricks&rdquo\; continues through September 3\, with regular museum hours from 10 a.m. to 5 p.m. Tuesday through Saturday. Admission is FREE.
LOCATION:Pearl Fincher Museum of Fine Arts 6815 Cypresswood Drive Spring\, TX 77379
UID:e.155.35989
SEQUENCE:3
DTSTAMP:20260421T105341Z
URL:https://business.tomballchamber.org/events/details/summer-exhibition-opening-pearl-fincher-museum-of-fine-arts-35989
END:VEVENT

END:VCALENDAR
