BEGIN:VCALENDAR
VERSION:2.0
PRODID:-//ChamberMaster//Event Calendar 2.0//EN
METHOD:PUBLISH
X-PUBLISHED-TTL:P3D
REFRESH-INTERVAL:P3D
CALSCALE:GREGORIAN
BEGIN:VEVENT
DTSTART;VALUE=DATE:20071205
DTEND;VALUE=DATE:20071206
TRANSP:TRANSPARENT
X-MICROSOFT-CDO-ALLDAYEVENT:TRUE
SUMMARY:Successful Selling Workshop
DESCRIPTION:This workshop from LifeSkills International gives you a plan to sell to different personalities based on DISC. The workshop is 2 hours long and includes reference materials. It shows you how to understand and develop the selling process using DISC.
X-ALT-DESC;FMTTYPE=text/html:This workshop from LifeSkills International gives you a plan to sell to different personalities based on DISC. The workshop is 2 hours long and includes reference materials. It shows you how to understand and develop the selling process using DISC.
LOCATION:Stracks Restaurant @ 5707 Louetta\, Spring\, Texas 77379 (between Kuykendahl & Stuebner-Airline Rd.).Their phone number is (281) 376-0901.
UID:e.155.2372
SEQUENCE:3
DTSTAMP:20260421T214226Z
URL:https://business.tomballchamber.org/events/details/successful-selling-workshop-12-05-2007-2372
END:VEVENT

END:VCALENDAR
