BEGIN:VCALENDAR
VERSION:2.0
PRODID:-//ChamberMaster//Event Calendar 2.0//EN
METHOD:PUBLISH
X-PUBLISHED-TTL:P3D
REFRESH-INTERVAL:P3D
CALSCALE:GREGORIAN
BEGIN:VEVENT
DTSTART:20070428T150000Z
DTEND:20070518T230000Z
X-MICROSOFT-CDO-ALLDAYEVENT:FALSE
SUMMARY:Steve & Barry's
DESCRIPTION:
X-ALT-DESC;FMTTYPE=text/html:
LOCATION:Steve & Barry's Clothing Store 4700 Louetta Spring\, Texas 77388 Please apply in person Now hiring sales associates\, stock associates and cashiers
UID:e.155.2228
SEQUENCE:3
DTSTAMP:20260422T091206Z
URL:https://business.tomballchamber.org/events/details/steve-barry-s-04-28-2007-2228
END:VEVENT

END:VCALENDAR
