BEGIN:VCALENDAR
VERSION:2.0
PRODID:-//ChamberMaster//Event Calendar 2.0//EN
METHOD:PUBLISH
X-PUBLISHED-TTL:P3D
REFRESH-INTERVAL:P3D
CALSCALE:GREGORIAN
BEGIN:VEVENT
DTSTART:20070209T010000Z
DTEND:20070209T030000Z
X-MICROSOFT-CDO-ALLDAYEVENT:FALSE
SUMMARY:State Rep. Corbin Van Arsdale's Town Hall Meeting
DESCRIPTION:
X-ALT-DESC;FMTTYPE=text/html:
LOCATION:Beckendorf Conference Center at Tomball College 30555 Tomball Parkway
UID:e.155.281
SEQUENCE:3
DTSTAMP:20260422T135014Z
URL:https://business.tomballchamber.org/events/details/state-rep-corbin-van-arsdale-s-town-hall-meeting-02-08-2007-281
END:VEVENT

END:VCALENDAR
