BEGIN:VCALENDAR
VERSION:2.0
PRODID:-//ChamberMaster//Event Calendar 2.0//EN
METHOD:PUBLISH
X-PUBLISHED-TTL:P3D
REFRESH-INTERVAL:P3D
CALSCALE:GREGORIAN
BEGIN:VEVENT
DTSTART:20071117T190000Z
DTEND:20071117T230000Z
X-MICROSOFT-CDO-ALLDAYEVENT:FALSE
SUMMARY:Starlight Foundation of Texas Community Dress Drive
DESCRIPTION:Starlight Foundation of Texas is a non-profit community service organization providing free Prom dresses to deserving young women.  Dahlia's Boutique in Tomball is sponsoring a Community Dress Drive where we will be collecting new and gently worn Formal Dresses and accessories (shoes\, purses\, jewelry\, etc). We are dedicated to promoting confidence and self-esteem to High School junior & senior girls and help them attend their proms in style\, surround them with positive role models and encourage future success.     \nWhile the girls may be focused on their dress ? we are focused on them.  We strive for each girl to be treated with respect\, grace & love.  Young women deserve the opportunity to realize positive life experiences regardless of their financial or family circumstances.
X-ALT-DESC;FMTTYPE=text/html:Starlight Foundation of Texas is a non-profit community service organization providing free Prom dresses to deserving young women.  Dahlia's Boutique in Tomball is sponsoring a Community Dress Drive where we will be collecting new and gently worn Formal Dresses and accessories (shoes\, purses\, jewelry\, etc). We are dedicated to promoting confidence and self-esteem to High School junior & senior girls and help them attend their proms in style\, surround them with positive role models and encourage future success.     \nWhile the girls may be focused on their dress ? we are focused on them.  We strive for each girl to be treated with respect\, grace & love.  Young women deserve the opportunity to realize positive life experiences regardless of their financial or family circumstances.\n
LOCATION:Dahlia's Boutique - 120 West Main Street Tomball\, Texas 77375
UID:e.155.2361
SEQUENCE:3
DTSTAMP:20260421T233808Z
URL:https://business.tomballchamber.org/events/details/starlight-foundation-of-texas-community-dress-drive-11-17-2007-2361
END:VEVENT

END:VCALENDAR
