BEGIN:VCALENDAR
VERSION:2.0
PRODID:-//ChamberMaster//Event Calendar 2.0//EN
METHOD:PUBLISH
X-PUBLISHED-TTL:P3D
REFRESH-INTERVAL:P3D
CALSCALE:GREGORIAN
BEGIN:VEVENT
DTSTART:20080119T160000Z
DTEND:20080119T200000Z
X-MICROSOFT-CDO-ALLDAYEVENT:FALSE
SUMMARY:Starlight Foundation of Texas Community Dress Drive
DESCRIPTION:Starlight Foundation of Texas is a non-profit community service organization providing FREE Prom dresses to deserving young women.  We are in need of the following:\n*  New or like new Formal/Evening Dresses ? All sizes\, colors & styles\, Teen appropriate  \n*  Accessories: Shoes\, handbags\, jewelry\, wraps/shawls\n*  Unopened cosmetics (samples are fine)\n*  Donations/Gift cards for services:\n    Dry cleaning\, Hair or Nail Salon\, Restaurant\, Florist\, Limo rental\n*  Monetary donations to help defer costs\, purchase equipment & provide dresses to girls             \n    whose size may not have been donated
X-ALT-DESC;FMTTYPE=text/html:Starlight Foundation of Texas is a non-profit community service organization providing FREE Prom dresses to deserving young women.  We are in need of the following:\n*  New or like new Formal/Evening Dresses ? All sizes\, colors & styles\, Teen appropriate  \n*  Accessories: Shoes\, handbags\, jewelry\, wraps/shawls\n*  Unopened cosmetics (samples are fine)\n*  Donations/Gift cards for services:\n    Dry cleaning\, Hair or Nail Salon\, Restaurant\, Florist\, Limo rental\n*  Monetary donations to help defer costs\, purchase equipment & provide dresses to girls             \n    whose size may not have been donated\n
LOCATION:Dahlia's Boutique 120 West Main Street Tomball\, TX 77375
UID:e.155.2380
SEQUENCE:3
DTSTAMP:20260421T214808Z
URL:https://business.tomballchamber.org/events/details/starlight-foundation-of-texas-community-dress-drive-01-19-2008-2380
END:VEVENT

END:VCALENDAR
