BEGIN:VCALENDAR
VERSION:2.0
PRODID:-//ChamberMaster//Event Calendar 2.0//EN
METHOD:PUBLISH
X-PUBLISHED-TTL:P3D
REFRESH-INTERVAL:P3D
CALSCALE:GREGORIAN
BEGIN:VEVENT
DTSTART:20080409T223000Z
DTEND:20080410T003000Z
X-MICROSOFT-CDO-ALLDAYEVENT:FALSE
SUMMARY:St. Luke's Community Emergency Centers - Ribbon Cutting
DESCRIPTION:St. Luke's Community Emergency CentersRibbon Cutting - Open House
X-ALT-DESC;FMTTYPE=text/html:<div>St. Luke's Community Emergency Centers</div><div>Ribbon Cutting - Open House</div>
LOCATION:10701 Vintage Preserve Parkwayinside Kelsey Seybold Clinic
UID:e.155.2458
SEQUENCE:3
DTSTAMP:20260421T164500Z
URL:https://business.tomballchamber.org/events/details/st-luke-s-community-emergency-centers-ribbon-cutting-04-09-2008-2458
END:VEVENT

END:VCALENDAR
