BEGIN:VCALENDAR
VERSION:2.0
PRODID:-//ChamberMaster//Event Calendar 2.0//EN
METHOD:PUBLISH
X-PUBLISHED-TTL:P3D
REFRESH-INTERVAL:P3D
CALSCALE:GREGORIAN
BEGIN:VEVENT
DTSTART:20070414T233000Z
DTEND:20070415T043000Z
X-MICROSOFT-CDO-ALLDAYEVENT:FALSE
SUMMARY:St Anne's School Mardi Gras Casino Night
DESCRIPTION:St. Anne's School presents Mardi Gras Casino Night\nBenefiting the future construction of the new Community Center
X-ALT-DESC;FMTTYPE=text/html:St. Anne's School presents Mardi Gras Casino Night<br />Benefiting the future construction of the new Community Center
LOCATION:St. Anne's Community Gym 1111 South Cherry Street Tomball\, Texas 77375
UID:e.155.2201
SEQUENCE:3
DTSTAMP:20260422T104933Z
URL:https://business.tomballchamber.org/events/details/st-anne-s-school-mardi-gras-casino-night-04-14-2007-2201
END:VEVENT

END:VCALENDAR
