BEGIN:VCALENDAR
VERSION:2.0
PRODID:-//ChamberMaster//Event Calendar 2.0//EN
METHOD:PUBLISH
X-PUBLISHED-TTL:P3D
REFRESH-INTERVAL:P3D
CALSCALE:GREGORIAN
BEGIN:VEVENT
DTSTART;VALUE=DATE:20070224
DTEND;VALUE=DATE:20070225
TRANSP:TRANSPARENT
X-MICROSOFT-CDO-ALLDAYEVENT:TRUE
SUMMARY:St. Anne's Catholic School Presents Texas Glitz Banquet
DESCRIPTION:Texas Glitz - Dinner and Entertainment Honoring Dr. Robert Ivany\nLive & SIlent Auction and Raffles
X-ALT-DESC;FMTTYPE=text/html:Texas Glitz - Dinner and Entertainment Honoring Dr. Robert Ivany<br />Live &amp\; SIlent Auction and Raffles
LOCATION:Northwest Forst Conference Center 12715 Telge Road Cypress\, Texas 77429
UID:e.155.1359
SEQUENCE:3
DTSTAMP:20260422T151744Z
URL:https://business.tomballchamber.org/events/details/st-anne-s-catholic-school-presents-texas-glitz-banquet-02-24-2007-1359
END:VEVENT

END:VCALENDAR
