BEGIN:VCALENDAR
VERSION:2.0
PRODID:-//ChamberMaster//Event Calendar 2.0//EN
METHOD:PUBLISH
X-PUBLISHED-TTL:P3D
REFRESH-INTERVAL:P3D
CALSCALE:GREGORIAN
BEGIN:VEVENT
DTSTART:20080422T180000Z
DTEND:20080422T190000Z
X-MICROSOFT-CDO-ALLDAYEVENT:FALSE
SUMMARY:Spring Gardening
DESCRIPTION:Featuring Small Garden Ideas\nRSVP (281) 970-7979
X-ALT-DESC;FMTTYPE=text/html:Featuring Small Garden Ideas\nRSVP (281) 970-7979
LOCATION:Village on the Park 12102 Steepleway Blvd Houston\, TX 77065
UID:e.155.2456
SEQUENCE:3
DTSTAMP:20260421T145507Z
URL:https://business.tomballchamber.org/events/details/spring-gardening-04-22-2008-2456
END:VEVENT

END:VCALENDAR
