BEGIN:VCALENDAR
VERSION:2.0
PRODID:-//ChamberMaster//Event Calendar 2.0//EN
METHOD:PUBLISH
X-PUBLISHED-TTL:P3D
REFRESH-INTERVAL:P3D
CALSCALE:GREGORIAN
BEGIN:VEVENT
DTSTART:20080308T173000Z
DTEND:20080308T190000Z
X-MICROSOFT-CDO-ALLDAYEVENT:FALSE
SUMMARY:Spring Fling - ABWA
DESCRIPTION:Spring Fling - ABWAhonors Woman of the Year\, Distinction and Excellencealong with Business Associate and Top Ten Candidatewith a luncheon and fashion showEveryone Welcome
X-ALT-DESC;FMTTYPE=text/html:<div>Spring Fling - ABWA</div><div>honors Woman of the Year\, Distinction and Excellence</div><div>along with Business Associate and Top Ten Candidate</div><div>with a luncheon and fashion show</div><div>Everyone Welcome</div>
LOCATION:Elmer Beckendorf Conference Center Room E168Tomball College30555 Tomball Parkway Business Casual Attire
UID:e.155.2392
SEQUENCE:3
DTSTAMP:20260421T182638Z
URL:https://business.tomballchamber.org/events/details/spring-fling-abwa-03-08-2008-2392
END:VEVENT

END:VCALENDAR
