BEGIN:VCALENDAR
VERSION:2.0
PRODID:-//ChamberMaster//Event Calendar 2.0//EN
METHOD:PUBLISH
X-PUBLISHED-TTL:P3D
REFRESH-INTERVAL:P3D
CALSCALE:GREGORIAN
BEGIN:VEVENT
DTSTART:20230506T160000Z
DTEND:20230506T210000Z
X-MICROSOFT-CDO-ALLDAYEVENT:FALSE
SUMMARY:Spring Festival - Boys and Girls Country
DESCRIPTION:Activities: Midway Games Bucket Raffle Crafts Giant Inflatables Basket Sale Food: BBQ Carnival Food Hamburgers Hot Dogs Tacos Don't miss the armadillo races from 12-3 pm!
X-ALT-DESC;FMTTYPE=text/html:Activities: Midway Games Bucket Raffle Crafts Giant Inflatables Basket Sale Food: BBQ Carnival Food Hamburgers Hot Dogs Tacos Don&#39\;t miss the armadillo races from 12-3 pm!
LOCATION:18806 Roberts Road Hockley\, TX 77447
UID:e.155.37896
SEQUENCE:3
DTSTAMP:20260420T062445Z
URL:https://business.tomballchamber.org/events/details/spring-festival-boys-and-girls-country-37896
END:VEVENT

END:VCALENDAR
