BEGIN:VCALENDAR
VERSION:2.0
PRODID:-//ChamberMaster//Event Calendar 2.0//EN
METHOD:PUBLISH
X-PUBLISHED-TTL:P3D
REFRESH-INTERVAL:P3D
CALSCALE:GREGORIAN
BEGIN:VEVENT
DTSTART;VALUE=DATE:20080503
DTEND;VALUE=DATE:20080504
TRANSP:TRANSPARENT
X-MICROSOFT-CDO-ALLDAYEVENT:TRUE
SUMMARY:Spring Festival
DESCRIPTION:Spring Festival is a fun event for children and adults and will bring 2\,500 people to Boys & Girls Country on May 3rd.  There will be numerous activities for children and great entertainment\, food\, and auctions for the adults.  The event raises much needed dollars to support our work in providing over 100 children annually with a Home.
X-ALT-DESC;FMTTYPE=text/html:Spring Festival is a fun event for children and adults and will bring 2\,500 people to Boys & Girls Country on May 3rd.  There will be numerous activities for children and great entertainment\, food\, and auctions for the adults.  The event raises much needed dollars to support our work in providing over 100 children annually with a Home.
LOCATION:Boys & Girls Country\, 18806 Roberts Rd.\, Hockley\, TX
UID:e.155.2421
SEQUENCE:3
DTSTAMP:20260421T130204Z
URL:https://business.tomballchamber.org/events/details/spring-festival-05-03-2008-2421
END:VEVENT

END:VCALENDAR
