BEGIN:VCALENDAR
VERSION:2.0
PRODID:-//ChamberMaster//Event Calendar 2.0//EN
METHOD:PUBLISH
X-PUBLISHED-TTL:P3D
REFRESH-INTERVAL:P3D
CALSCALE:GREGORIAN
BEGIN:VEVENT
DTSTART:20080408T130000Z
DTEND:20080411T230000Z
X-MICROSOFT-CDO-ALLDAYEVENT:FALSE
SUMMARY:Spring Donation Drive for Houston Women's Center
DESCRIPTION:All Donations Welcome
X-ALT-DESC;FMTTYPE=text/html:All Donations Welcome
LOCATION:Village on the Park 12102 Steepleway Blvd Houston\, TX 77065
UID:e.155.2454
SEQUENCE:3
DTSTAMP:20260421T151912Z
URL:https://business.tomballchamber.org/events/details/spring-donation-drive-for-houston-women-s-center-04-08-2008-2454
END:VEVENT

END:VCALENDAR
