BEGIN:VCALENDAR
VERSION:2.0
PRODID:-//ChamberMaster//Event Calendar 2.0//EN
METHOD:PUBLISH
X-PUBLISHED-TTL:P3D
REFRESH-INTERVAL:P3D
CALSCALE:GREGORIAN
BEGIN:VEVENT
DTSTART:20090426T190000Z
DTEND:20090426T210000Z
X-MICROSOFT-CDO-ALLDAYEVENT:FALSE
SUMMARY:Spring Creek County Historical Association's Annual Heritage Tea\, honoring Lessi
DESCRIPTION:
X-ALT-DESC;FMTTYPE=text/html:
LOCATION:510 N. Pine Street\, Tomball\, TX
UID:e.155.2892
SEQUENCE:3
DTSTAMP:20260420T182959Z
URL:https://business.tomballchamber.org/events/details/spring-creek-county-historical-association-s-annual-heritage-tea-honoring-lessi-04-26-2009-2892
END:VEVENT

END:VCALENDAR
