BEGIN:VCALENDAR
VERSION:2.0
PRODID:-//ChamberMaster//Event Calendar 2.0//EN
METHOD:PUBLISH
X-PUBLISHED-TTL:P3D
REFRESH-INTERVAL:P3D
CALSCALE:GREGORIAN
BEGIN:VEVENT
DTSTART:20080426T210000Z
DTEND:20080427T010000Z
X-MICROSOFT-CDO-ALLDAYEVENT:FALSE
SUMMARY:Spring Creek Church of Christ Grand Opening Celebration
DESCRIPTION:Join us for Food\, Fun\, and Fellowship!
X-ALT-DESC;FMTTYPE=text/html:Join us for Food\, Fun\, and Fellowship!
LOCATION:Spring Creek Church of Christ Brown road
UID:e.155.2480
SEQUENCE:3
DTSTAMP:20260421T165533Z
URL:https://business.tomballchamber.org/events/details/spring-creek-church-of-christ-grand-opening-celebration-04-26-2008-2480
END:VEVENT

END:VCALENDAR
