BEGIN:VCALENDAR
VERSION:2.0
PRODID:-//ChamberMaster//Event Calendar 2.0//EN
METHOD:PUBLISH
X-PUBLISHED-TTL:P3D
REFRESH-INTERVAL:P3D
CALSCALE:GREGORIAN
BEGIN:VEVENT
DTSTART;VALUE=DATE:20070423
DTEND;VALUE=DATE:20070429
TRANSP:TRANSPARENT
X-MICROSOFT-CDO-ALLDAYEVENT:TRUE
SUMMARY:Spring Clean-Up Week in Tomball
DESCRIPTION:Spring Clean Up Week in Tomball\nCity will pick up old appliances and trash
X-ALT-DESC;FMTTYPE=text/html:Spring Clean Up Week in Tomball<br />City will pick up old appliances and trash
LOCATION:
UID:e.155.2206
SEQUENCE:3
DTSTAMP:20260422T104440Z
URL:https://business.tomballchamber.org/events/details/spring-clean-up-week-in-tomball-04-23-2007-2206
END:VEVENT

END:VCALENDAR
