BEGIN:VCALENDAR
VERSION:2.0
PRODID:-//ChamberMaster//Event Calendar 2.0//EN
METHOD:PUBLISH
X-PUBLISHED-TTL:P3D
REFRESH-INTERVAL:P3D
CALSCALE:GREGORIAN
BEGIN:VEVENT
DTSTART;VALUE=DATE:20110326
DTEND;VALUE=DATE:20110327
TRANSP:TRANSPARENT
X-MICROSOFT-CDO-ALLDAYEVENT:TRUE
SUMMARY:Sporting Clays Tournament
DESCRIPTION:SPORTING CLAYS TOURNAMENT\n\n	Tomball High School Class of 2011\n\n	Senior Parent Organization Fundraiser\n\n\nWe cordially invite you to particpate in the 5th Annual Sporting Clays Tournament organized by the Tomball Senior Parent Organization (Tomball SPO)
X-ALT-DESC;FMTTYPE=text/html:<p style="text-align: center">\n	SPORTING CLAYS TOURNAMENT</p>\n<p style="text-align: center">\n	Tomball High School Class of 2011</p>\n<p style="text-align: center">\n	Senior Parent Organization Fundraiser</p>\n<br />\nWe cordially invite you to&nbsp\;particpate in the 5th Annual Sporting Clays Tournament organized by the Tomball Senior Parent Organization (Tomball SPO)<br />\n<br />\n<br />\n&nbsp\;
LOCATION:Westside Sporting Grounds - Katy
UID:e.155.6635
SEQUENCE:3
DTSTAMP:20260419T152549Z
URL:https://business.tomballchamber.org/events/details/sporting-clays-tournament-03-26-2011-6635
END:VEVENT

END:VCALENDAR
