BEGIN:VCALENDAR
VERSION:2.0
PRODID:-//ChamberMaster//Event Calendar 2.0//EN
METHOD:PUBLISH
X-PUBLISHED-TTL:P3D
REFRESH-INTERVAL:P3D
CALSCALE:GREGORIAN
BEGIN:VEVENT
DTSTART:20071028T213000Z
DTEND:20071028T233000Z
X-MICROSOFT-CDO-ALLDAYEVENT:FALSE
SUMMARY:Spooky Fest for Kids
DESCRIPTION:Spooky Fun Fest \nKid Friendly Haunted Body Shop - HotDogs - Drinks - Moonbounce - Face Painting - Games - Costume Contest - Fire Truck - and MORE!!!\nBring a can good for an extra spooky treat.\nGet your raffle tickets for the Tomball SPO Custom BBQ Pit Raffle!
X-ALT-DESC;FMTTYPE=text/html:Spooky Fun Fest \nKid Friendly Haunted Body Shop - HotDogs - Drinks - Moonbounce - Face Painting - Games - Costume Contest - Fire Truck - and MORE!!!\nBring a can good for an extra spooky treat.\nGet your raffle tickets for the Tomball SPO Custom BBQ Pit Raffle!
LOCATION:Tomball Collision Center - 1603 Hicks - Tomball\, TX
UID:e.155.2351
SEQUENCE:3
DTSTAMP:20260422T011335Z
URL:https://business.tomballchamber.org/events/details/spooky-fest-for-kids-10-28-2007-2351
END:VEVENT

END:VCALENDAR
