BEGIN:VCALENDAR
VERSION:2.0
PRODID:-//ChamberMaster//Event Calendar 2.0//EN
METHOD:PUBLISH
X-PUBLISHED-TTL:P3D
REFRESH-INTERVAL:P3D
CALSCALE:GREGORIAN
BEGIN:VEVENT
DTSTART:20080614T010000Z
DTEND:20080614T043000Z
X-MICROSOFT-CDO-ALLDAYEVENT:FALSE
SUMMARY:SMART-Adopt a Cat Benefit Concert at Main Street Crossing
DESCRIPTION:Jennifer Grassman\, local recording artist is having a benefit concert for SMART & Adopt-A-Cat. \nThey are asking that you bring items that can be doated to the beneifit such as cat food\, litter\, dog collars\, pet beds or anything that can be used for pets. This is a benefit for a local no kill animal shelter. This is for the general public.
X-ALT-DESC;FMTTYPE=text/html:Jennifer Grassman\, local recording artist is having a benefit concert for SMART & Adopt-A-Cat. \nThey are asking that you bring items that can be doated to the beneifit such as cat food\, litter\, dog collars\, pet beds or anything that can be used for pets. This is a benefit for a local no kill animal shelter. This is for the general public.
LOCATION:111 W. Main Street Tomball\, Texas 77375
UID:e.155.2527
SEQUENCE:3
DTSTAMP:20260421T130956Z
URL:https://business.tomballchamber.org/events/details/smart-adopt-a-cat-benefit-concert-at-main-street-crossing-06-13-2008-2527
END:VEVENT

END:VCALENDAR
