BEGIN:VCALENDAR
VERSION:2.0
PRODID:-//ChamberMaster//Event Calendar 2.0//EN
METHOD:PUBLISH
X-PUBLISHED-TTL:P3D
REFRESH-INTERVAL:P3D
CALSCALE:GREGORIAN
BEGIN:VEVENT
DTSTART:20230513T130000Z
DTEND:20230513T190000Z
X-MICROSOFT-CDO-ALLDAYEVENT:FALSE
SUMMARY:Skeet Shoot Fundraiser for Kids Camp
DESCRIPTION:A FUNdraiser to send kids to camp\, and fun for you and your family\,\n\nBIG\, BIG Prizes awarded to the most clays hit. REGISTER HERE\n\nOther stuff to do:\n\nCatch and release fishing (bring your fishing pole)\n\nAxe Throwing\n\nCorn Hole\n\nConcessions\, and more...
X-ALT-DESC;FMTTYPE=text/html:A <u>FUN</u>draiser to send kids to camp\, and fun for you and your family\,<br />\n<strong>BIG\, BIG Prizes awarded to the most clays hit.<span style="color:#FF0000"><strong> </strong></span><a href="https://gbctomball.shelbynextchms.com/external/form/82acc50a-47db-4284-9833-757a77c4009a" target="_blank"><span style="color:#FF0000">REGISTER HER</span></a><span style="color:#FF0000">E</span></strong><br />\nOther stuff to do:<br />\nCatch and release fishing (bring your fishing pole)<br />\nAxe Throwing<br />\nCorn Hole<br />\nConcessions\, and more...
LOCATION:Graceview Baptist Church 21206 Telge Road Tomball\, Texas 77377
UID:e.155.37957
SEQUENCE:3
DTSTAMP:20260420T080532Z
URL:https://business.tomballchamber.org/events/details/skeet-shoot-fundraiser-for-kids-camp-37957
END:VEVENT

END:VCALENDAR
