BEGIN:VCALENDAR
VERSION:2.0
PRODID:-//ChamberMaster//Event Calendar 2.0//EN
METHOD:PUBLISH
X-PUBLISHED-TTL:P3D
REFRESH-INTERVAL:P3D
CALSCALE:GREGORIAN
BEGIN:VEVENT
DTSTART:20070814T150000Z
DTEND:20070814T160000Z
X-MICROSOFT-CDO-ALLDAYEVENT:FALSE
SUMMARY:Silverado (IMAX Theatres) Tree Planting Ceremony
DESCRIPTION:Tree Planting CeremonySilverado ( IMAX Theatre)
X-ALT-DESC;FMTTYPE=text/html:<div>Tree Planting Ceremony</div><div>Silverado ( IMAX Theatre)</div><div>&nbsp\;</div>
LOCATION:SH 249 - Tomball ParkwayTomball\, Texas
UID:e.155.2287
SEQUENCE:3
DTSTAMP:20260422T045327Z
URL:https://business.tomballchamber.org/events/details/silverado-imax-theatres-tree-planting-ceremony-08-14-2007-2287
END:VEVENT

END:VCALENDAR
