BEGIN:VCALENDAR
VERSION:2.0
PRODID:-//ChamberMaster//Event Calendar 2.0//EN
METHOD:PUBLISH
X-PUBLISHED-TTL:P3D
REFRESH-INTERVAL:P3D
CALSCALE:GREGORIAN
BEGIN:VEVENT
DTSTART:20070707T150000Z
DTEND:20070707T160000Z
X-MICROSOFT-CDO-ALLDAYEVENT:FALSE
SUMMARY:Silver State Helicopters ''Super Saturday''
DESCRIPTION:Silver State Helicopters\n\n \nYou?re invited!\n\nWe will be hosting every First Saturday of month starting (July 7\, 2007) Presentation in regards to becoming a Helicopter Pilot with Silver State Helicopters we would like to invite you to come listen  from 10am to 11am.\n\nSilver State Helicopters\nWorld?s Largest Helicopters\nFlight Training Academy & Full Service Operator\n\n?	Learn about our Flight Academy Program\n?	Tour the Hanger and Academy\n?	Check out the Helicopter Simulator\n?	Silver State Helicopters Package \n\nContact Person:\n\nCharles Allen\nSilver State Helicopters\nEnrollment Manager\n281-924-4919 Phone \nE-mail: Charles-allen@ssheli.com\n\nCall to RSVP your seat for the presentation space is limited!!!\n\nAddress: 9306 Max Conrad Dr.\n               Spring\, Tx 77379\n\nLocated next door to the Tomball Jet Center at David Wayne Hooks Airport off of Boudreaux Road cross road is FM 2920 Rd look for signs with Tomball Jet Center. Use www.mapquest.com  and print it out. Looking forward to see you soon!
X-ALT-DESC;FMTTYPE=text/html:Silver State Helicopters\n\n \nYou?re invited!\n\nWe will be hosting every First Saturday of month starting (July 7\, 2007) Presentation in regards to becoming a Helicopter Pilot with Silver State Helicopters we would like to invite you to come listen  from 10am to 11am.\n\nSilver State Helicopters\nWorld?s Largest Helicopters\nFlight Training Academy & Full Service Operator\n\n?	Learn about our Flight Academy Program\n?	Tour the Hanger and Academy\n?	Check out the Helicopter Simulator\n?	Silver State Helicopters Package \n\nContact Person:\n\nCharles Allen\nSilver State Helicopters\nEnrollment Manager\n281-924-4919 Phone \nE-mail: Charles-allen@ssheli.com\n\nCall to RSVP your seat for the presentation space is limited!!!\n\nAddress: 9306 Max Conrad Dr.\n               Spring\, Tx 77379\n\nLocated next door to the Tomball Jet Center at David Wayne Hooks Airport off of Boudreaux Road cross road is FM 2920 Rd look for signs with Tomball Jet Center. Use www.mapquest.com  and print it out. Looking forward to see you soon!	\n
LOCATION:Silver State Helicopters Hanger
UID:e.155.2267
SEQUENCE:3
DTSTAMP:20260422T061154Z
URL:https://business.tomballchamber.org/events/details/silver-state-helicopters-super-saturday-07-07-2007-2267
END:VEVENT

END:VCALENDAR
