BEGIN:VCALENDAR
VERSION:2.0
PRODID:-//ChamberMaster//Event Calendar 2.0//EN
METHOD:PUBLISH
X-PUBLISHED-TTL:P3D
REFRESH-INTERVAL:P3D
CALSCALE:GREGORIAN
BEGIN:VEVENT
DTSTART:20070519T160000Z
DTEND:20070519T190000Z
X-MICROSOFT-CDO-ALLDAYEVENT:FALSE
SUMMARY:Silver State Helicopters Open House & BBQ
DESCRIPTION:World's Largest Helicopter Flight Training Academy & Full Service Helicopter Operator invites you to:\n\nTour the Hanger & Academy\nCheck out the Helicopter Simulator\nRegister to win a helicopter ride!\nJoin us for food and FUN\nBring your family & friends
X-ALT-DESC;FMTTYPE=text/html:<p><font size="2">World&rsquo\;s Largest Helicopter Flight Training Academy &amp\; Full Service Helicopter Operator invites you to:<br /><br />Tour the Hanger &amp\; Academy<br />Check out the Helicopter Simulator<br />Register to win a helicopter ride!<br />Join us for food and FUN<br />Bring your family &amp\; friends</font></p>
LOCATION:Tomball Jet Center 9310 Max Conrad Dr. Spring\, TX 77379
UID:e.155.2238
SEQUENCE:3
DTSTAMP:20260422T091345Z
URL:https://business.tomballchamber.org/events/details/silver-state-helicopters-open-house-bbq-05-19-2007-2238
END:VEVENT

END:VCALENDAR
