BEGIN:VCALENDAR
VERSION:2.0
PRODID:-//ChamberMaster//Event Calendar 2.0//EN
METHOD:PUBLISH
X-PUBLISHED-TTL:P3D
REFRESH-INTERVAL:P3D
CALSCALE:GREGORIAN
BEGIN:VEVENT
DTSTART:20080920T010000Z
DTEND:20080920T043000Z
X-MICROSOFT-CDO-ALLDAYEVENT:FALSE
SUMMARY:Shake Russell at Main Street Crossing
DESCRIPTION:This will be a full show. To make reservations call Main Street Crossing to buy tickets.\n281-290-0431
X-ALT-DESC;FMTTYPE=text/html:This will be a full show. To make reservations call Main Street Crossing to buy tickets.\n281-290-0431
LOCATION:111 W. Main Tomball\, Tx 77375
UID:e.155.2596
SEQUENCE:3
DTSTAMP:20260421T085815Z
URL:https://business.tomballchamber.org/events/details/shake-russell-at-main-street-crossing-09-19-2008-2596
END:VEVENT

END:VCALENDAR
