BEGIN:VCALENDAR
VERSION:2.0
PRODID:-//ChamberMaster//Event Calendar 2.0//EN
METHOD:PUBLISH
X-PUBLISHED-TTL:P3D
REFRESH-INTERVAL:P3D
CALSCALE:GREGORIAN
BEGIN:VEVENT
DTSTART:20070829T163000Z
DTEND:20070829T183000Z
X-MICROSOFT-CDO-ALLDAYEVENT:FALSE
SUMMARY:Seminar: ''The New Texas Business Tax and What it Means to You''
DESCRIPTION:Seminars are sponsored by the North Harris Montgomery Community College District Small Business Development Center at each of the district's five colleges to the impact of a new Texas Franchise tax going into effect on January 1\, 2008.The seminars will feature presentations from Mark Scimemi of UHY Advisors and Amanda Trapp of Stibbs and Co.\, P.C.  The topics discussed will include the new definition of taxable entities under the tax\,  how to calculate the tax\, applicable deductions\, new reporting requirements\, and industry specific provisions for retailers/wholesalers\, manufacturers\, restaurants\, attorneys\, medical professionals and staff leasing companies.
X-ALT-DESC;FMTTYPE=text/html:<p>Seminars are sponsored by the North Harris Montgomery Community College District Small Business Development Center at each of the district's five colleges to&nbsp\;the impact of a new Texas Franchise tax going into effect on January 1\, 2008.</p><p>The seminars will feature presentations from Mark Scimemi of UHY Advisors and Amanda Trapp of Stibbs and Co.\, P.C.&nbsp\; The topics discussed will include the new definition of taxable entities under the tax\,&nbsp\; how to calculate the tax\, applicable deductions\, new reporting requirements\, and industry specific provisions for retailers/wholesalers\, manufacturers\, restaurants\, attorneys\, medical professionals and staff leasing companies.</p><p>&nbsp\;</p>
LOCATION:"The New Texas Business Tax and What it Means to You" will be held on the following dates:Aug. 22 at Cy-Fair College Aug. 29 at Kingwood College Sept. 12 at North Harris College Sept 19. at Montgomery College Sept. 26 at Tomball CollegeThe seminars will be held from 11:30am until 1:30pm and include lunch.
UID:e.155.2273
SEQUENCE:3
DTSTAMP:20260422T045718Z
URL:https://business.tomballchamber.org/events/details/seminar-the-new-texas-business-tax-and-what-it-means-to-you-08-29-2007-2273
END:VEVENT

END:VCALENDAR
