BEGIN:VCALENDAR
VERSION:2.0
PRODID:-//ChamberMaster//Event Calendar 2.0//EN
METHOD:PUBLISH
X-PUBLISHED-TTL:P3D
REFRESH-INTERVAL:P3D
CALSCALE:GREGORIAN
BEGIN:VEVENT
DTSTART;VALUE=DATE:20080303
DTEND;VALUE=DATE:20080401
TRANSP:TRANSPARENT
X-MICROSOFT-CDO-ALLDAYEVENT:TRUE
SUMMARY:Seeking Volunteers
DESCRIPTION:Seeking volunteers - Harris County Public Health and Environmental Services\, veterinary public health for mobile animal adoptions and animal foster homes
X-ALT-DESC;FMTTYPE=text/html:Seeking volunteers - Harris County Public Health and Environmental Services\, veterinary public health for mobile animal adoptions and animal foster homes
LOCATION:All over Harris County
UID:e.155.2440
SEQUENCE:3
DTSTAMP:20260421T182637Z
URL:https://business.tomballchamber.org/events/details/seeking-volunteers-03-03-2008-2440
END:VEVENT

END:VCALENDAR
