BEGIN:VCALENDAR
VERSION:2.0
PRODID:-//ChamberMaster//Event Calendar 2.0//EN
METHOD:PUBLISH
X-PUBLISHED-TTL:P3D
REFRESH-INTERVAL:P3D
CALSCALE:GREGORIAN
BEGIN:VEVENT
DTSTART:20221112T230000Z
DTEND:20221113T020000Z
X-MICROSOFT-CDO-ALLDAYEVENT:FALSE
SUMMARY:Second Saturday Fresh Art at DaVinci Art Gallery
DESCRIPTION:Join us every Second Saturday of the month for our Fresh Art Open House. Saturday\, November 12th\, 5pm-8pm for our November Fresh Art Event. Located in historic downtown Tomball\, Texas\, the gallery offers a beautiful and unique atmosphere in which to find your next work of art! Each month the gallery layout is re-configured\, revamped and rehung to set the stage for Fresh Art. Customers are welcome to wander in\, sample an appetizer\, sip a glass of complimentary beverages and chat with our talented local artists. Support your local artists by purchasing original art! 315 W. Main Street\, Tomball Texas 77375 281-516-9595 See less
X-ALT-DESC;FMTTYPE=text/html:Join us every Second Saturday of the month for our Fresh Art Open House. Saturday\, November 12th\, 5pm-8pm for our November Fresh Art Event. Located in historic downtown Tomball\, Texas\, the gallery offers a beautiful and unique atmosphere in which to find your next work of art! Each month the gallery layout is re-configured\, revamped and rehung to set the stage for Fresh Art. Customers are welcome to wander in\, sample an appetizer\, sip a glass of complimentary beverages and chat with our talented local artists. Support your local artists by purchasing original art! 315 W. Main Street\, Tomball Texas 77375 281-516-9595 See less
LOCATION:315 W. Main Street\, Tomball Texas 77375 281-516-9595
UID:e.155.37318
SEQUENCE:3
DTSTAMP:20260420T163954Z
URL:https://business.tomballchamber.org/events/details/second-saturday-fresh-art-at-davinci-art-gallery-37318
END:VEVENT

END:VCALENDAR
