BEGIN:VCALENDAR
VERSION:2.0
PRODID:-//ChamberMaster//Event Calendar 2.0//EN
METHOD:PUBLISH
X-PUBLISHED-TTL:P3D
REFRESH-INTERVAL:P3D
CALSCALE:GREGORIAN
BEGIN:VEVENT
DTSTART:20070627T000000Z
DTEND:20070627T010000Z
X-MICROSOFT-CDO-ALLDAYEVENT:FALSE
SUMMARY:Save Our Stories Informational Meeting
DESCRIPTION:Throughout July\, the Tomball College & Community Library will offer the "Save Our Stories" project modeled on the Library of Congress's Story Corps.  Take this opportunity to collect & preserve oral histories of the people in and around Tomball.  Share your experiences and preserve memories for the future by interviewing someone you know.  Receive a free CD copy of your interview and\, with your permission\, save a copy at the Tomball Museum Center archives.  Reservations for interviews begin in July.  Informational meetings will be presented on June 23 & 26.  Call or come by the library to make resrevations for your interview.
X-ALT-DESC;FMTTYPE=text/html:Throughout July\, the Tomball College & Community Library will offer the "Save Our Stories" project modeled on the Library of Congress's Story Corps.  Take this opportunity to collect & preserve oral histories of the people in and around Tomball.  Share your experiences and preserve memories for the future by interviewing someone you know.  Receive a free CD copy of your interview and\, with your permission\, save a copy at the Tomball Museum Center archives.  Reservations for interviews begin in July.  Informational meetings will be presented on June 23 & 26.  Call or come by the library to make resrevations for your interview.  
LOCATION:Tomball College & Community Library
UID:e.155.2250
SEQUENCE:3
DTSTAMP:20260422T091538Z
URL:https://business.tomballchamber.org/events/details/save-our-stories-informational-meeting-06-26-2007-2250
END:VEVENT

END:VCALENDAR
