BEGIN:VCALENDAR
VERSION:2.0
PRODID:-//ChamberMaster//Event Calendar 2.0//EN
METHOD:PUBLISH
X-PUBLISHED-TTL:P3D
REFRESH-INTERVAL:P3D
CALSCALE:GREGORIAN
BEGIN:VEVENT
DTSTART:20101202T233000Z
DTEND:20101203T010000Z
X-MICROSOFT-CDO-ALLDAYEVENT:FALSE
SUMMARY:Santa For Seniors - Free Event at The Heritage!
DESCRIPTION:Gift Ideas & Gifts to Buy!\n\nSip hot cider and enjoy holiday treats while you shop.\n\nSpecialty electronic devices for seniors and those with visual & hearing challenges\, chocolate treats\, assistive devices\, home safety gifts\, jewelry\, seasonal cane wraps\, salon & massage gift certificates\, family photos\, Scentsy Products\, flowers\, nutritional supplements and much more!
X-ALT-DESC;FMTTYPE=text/html:Gift Ideas &amp\; Gifts to Buy!<br />\nSip hot cider and enjoy holiday treats while you shop.<br />\nSpecialty electronic devices for seniors and those with visual &amp\; hearing challenges\, chocolate treats\, assistive devices\, home safety gifts\, jewelry\, seasonal cane wraps\, salon &amp\; massage gift certificates\, family photos\, Scentsy Products\, flowers\, nutritional supplements and much more!
LOCATION:The Heritage DayBreak 1221 Graham Drive\, Tomball\, Texas 77375
UID:e.155.6216
SEQUENCE:3
DTSTAMP:20260419T184312Z
URL:https://business.tomballchamber.org/events/details/santa-for-seniors-free-event-at-the-heritage-12-02-2010-6216
END:VEVENT

END:VCALENDAR
