BEGIN:VCALENDAR
VERSION:2.0
PRODID:-//ChamberMaster//Event Calendar 2.0//EN
METHOD:PUBLISH
X-PUBLISHED-TTL:P3D
REFRESH-INTERVAL:P3D
CALSCALE:GREGORIAN
BEGIN:VEVENT
DTSTART:20071216T210000Z
DTEND:20071216T230000Z
X-MICROSOFT-CDO-ALLDAYEVENT:FALSE
SUMMARY:Santa at the Drive In
DESCRIPTION:Santa is coming to the Showboat Drive In December 16th.  Come by and have your picture made with Santa in his sleigh in front of the big screen!  After pictures Santa will be hanging out to visit with moviegoers.
X-ALT-DESC;FMTTYPE=text/html:Santa is coming to the Showboat Drive In December 16th.  Come by and have your picture made with Santa in his sleigh in front of the big screen!  After pictures Santa will be hanging out to visit with moviegoers. 
LOCATION:The Showboat Drive In 22422 FM 2920 Hockley
UID:e.155.2367
SEQUENCE:3
DTSTAMP:20260421T233607Z
URL:https://business.tomballchamber.org/events/details/santa-at-the-drive-in-12-16-2007-2367
END:VEVENT

END:VCALENDAR
