BEGIN:VCALENDAR
VERSION:2.0
PRODID:-//ChamberMaster//Event Calendar 2.0//EN
METHOD:PUBLISH
X-PUBLISHED-TTL:P3D
REFRESH-INTERVAL:P3D
CALSCALE:GREGORIAN
BEGIN:VEVENT
DTSTART:20070827T180000Z
DTEND:20070827T200000Z
X-MICROSOFT-CDO-ALLDAYEVENT:FALSE
SUMMARY:Salute to the Fifties- Old Fashion Fun Games
DESCRIPTION:Enjoy playing a variety of board games and trying out your hula hoop and slinky skills.  Test your fifties trivia knowledge.  Light refreshments will be provided.
X-ALT-DESC;FMTTYPE=text/html:Enjoy playing a variety of board games and trying out your hula hoop and slinky skills.  Test your fifties trivia knowledge.  Light refreshments will be provided.  
LOCATION:Tomball College and Community Library
UID:e.155.2279
SEQUENCE:3
DTSTAMP:20260422T061728Z
URL:https://business.tomballchamber.org/events/details/salute-to-the-fifties-old-fashion-fun-games-08-27-2007-2279
END:VEVENT

END:VCALENDAR
