BEGIN:VCALENDAR
VERSION:2.0
PRODID:-//ChamberMaster//Event Calendar 2.0//EN
METHOD:PUBLISH
X-PUBLISHED-TTL:P3D
REFRESH-INTERVAL:P3D
CALSCALE:GREGORIAN
BEGIN:VEVENT
DTSTART:20070830T230000Z
DTEND:20070831T020000Z
X-MICROSOFT-CDO-ALLDAYEVENT:FALSE
SUMMARY:Salute to the Fifties- Fifties Double Feature Movie Night
DESCRIPTION:Join us as we enjoy a couple of fifties movies.  We'll supply the popcorn and drinks.  Door prize drawings will be held.
X-ALT-DESC;FMTTYPE=text/html:Join us as we enjoy a couple of fifties movies.  We'll supply the popcorn and drinks.  Door prize drawings will be held.
LOCATION:Tomball College and Community Library\, first floor meeting room
UID:e.155.2282
SEQUENCE:3
DTSTAMP:20260422T045621Z
URL:https://business.tomballchamber.org/events/details/salute-to-the-fifties-fifties-double-feature-movie-night-08-30-2007-2282
END:VEVENT

END:VCALENDAR
