BEGIN:VCALENDAR
VERSION:2.0
PRODID:-//ChamberMaster//Event Calendar 2.0//EN
METHOD:PUBLISH
X-PUBLISHED-TTL:P3D
REFRESH-INTERVAL:P3D
CALSCALE:GREGORIAN
BEGIN:VEVENT
DTSTART:20070830T000000Z
DTEND:20070830T013000Z
X-MICROSOFT-CDO-ALLDAYEVENT:FALSE
SUMMARY:Salute to the Fifties- Dance Dance Revolution Sock Hop
DESCRIPTION:Dance Dance Revolution is growing in popularity as a great way to exercise.  Join us as we pay tribute to the music of the Fifties.  Light refreshments will be served.  Door prize drawings will be held.
X-ALT-DESC;FMTTYPE=text/html:Dance Dance Revolution is growing in popularity as a great way to exercise.  Join us as we pay tribute to the music of the Fifties.  Light refreshments will be served.  Door prize drawings will be held. 
LOCATION:Tomball College and Community Library\, first floor meeting room.
UID:e.155.2281
SEQUENCE:3
DTSTAMP:20260422T045551Z
URL:https://business.tomballchamber.org/events/details/salute-to-the-fifties-dance-dance-revolution-sock-hop-08-29-2007-2281
END:VEVENT

END:VCALENDAR
