BEGIN:VCALENDAR
VERSION:2.0
PRODID:-//ChamberMaster//Event Calendar 2.0//EN
METHOD:PUBLISH
X-PUBLISHED-TTL:P3D
REFRESH-INTERVAL:P3D
CALSCALE:GREGORIAN
BEGIN:VEVENT
DTSTART:20070828T180000Z
DTEND:20070828T200000Z
X-MICROSOFT-CDO-ALLDAYEVENT:FALSE
SUMMARY:Salute to the Fifties
DESCRIPTION:Create a poodle\, make and take craft.  The library will provide the materials.  The poodle craft can be used to embellish a poodle skirt\, a purse\, a tshirt\, a scrapbook page or a pillow.  Light refreshments will be served.
X-ALT-DESC;FMTTYPE=text/html:Create a poodle\, make and take craft.  The library will provide the materials.  The poodle craft can be used to embellish a poodle skirt\, a purse\, a tshirt\, a scrapbook page or a pillow.  Light refreshments will be served.
LOCATION:Tomball College and Community Library\, First floor meeting room.
UID:e.155.2280
SEQUENCE:3
DTSTAMP:20260422T045402Z
URL:https://business.tomballchamber.org/events/details/salute-to-the-fifties-08-28-2007-2280
END:VEVENT

END:VCALENDAR
