BEGIN:VCALENDAR
VERSION:2.0
PRODID:-//ChamberMaster//Event Calendar 2.0//EN
METHOD:PUBLISH
X-PUBLISHED-TTL:P3D
REFRESH-INTERVAL:P3D
CALSCALE:GREGORIAN
BEGIN:VEVENT
DTSTART;VALUE=DATE:20070630
DTEND;VALUE=DATE:20070701
TRANSP:TRANSPARENT
X-MICROSOFT-CDO-ALLDAYEVENT:TRUE
SUMMARY:Salon Grand Opening & birthday party
DESCRIPTION:Tomball Day Spa & Wellness Ctr's hair salon is now open. Come in and celebrate the new addition as well as Kitty's Birthday.
X-ALT-DESC;FMTTYPE=text/html:Tomball Day Spa & Wellness Ctr's hair salon is now open. Come in and celebrate the new addition as well as Kitty's Birthday.
LOCATION:305 Epps St. Cherry and Epps St.
UID:e.155.2231
SEQUENCE:3
DTSTAMP:20260422T091758Z
URL:https://business.tomballchamber.org/events/details/salon-grand-opening-birthday-party-06-30-2007-2231
END:VEVENT

END:VCALENDAR
