BEGIN:VCALENDAR
VERSION:2.0
PRODID:-//ChamberMaster//Event Calendar 2.0//EN
METHOD:PUBLISH
X-PUBLISHED-TTL:P3D
REFRESH-INTERVAL:P3D
CALSCALE:GREGORIAN
BEGIN:VEVENT
DTSTART:20190618T130000Z
DTEND:20190618T190000Z
X-MICROSOFT-CDO-ALLDAYEVENT:FALSE
SUMMARY:Salem Lutheran School Golf Tournament
DESCRIPTION:You are cordially invited to attend Salem Lutheran School's annual golf tournament. This event will be held Tuesday\, June 18\, 2019\, at High Meadow Ranch Golf Club in Magnolia\, Texas\, and benefits the SLS Athletic Department. The Athletic Department is focused on providing quality Christ-centered opportunities for growth to the Salem student body.\n\nThis golf outing is also an excellent opportunity for our Salem family to come together and have fellowship. We encourage family teams. Come on out!
X-ALT-DESC;FMTTYPE=text/html:You are cordially invited to attend Salem Lutheran School&rsquo\;s annual golf tournament. This event will be held Tuesday\, June 18\, 2019\, at High Meadow Ranch Golf Club in Magnolia\, Texas\, and benefits the SLS Athletic Department. The Athletic Department is focused on providing quality Christ-centered opportunities for growth to the Salem student body.<br />\nThis golf outing is also an excellent opportunity for our Salem family to come together and have fellowship. We encourage family teams. Come on out!
LOCATION:High Meadow Ranch Golf Course 37300 Golf Club Trail\, Magnolia\, TX 77355
UID:e.155.31112
SEQUENCE:3
DTSTAMP:20260425T231947Z
URL:https://business.tomballchamber.org/events/details/salem-lutheran-school-golf-tournament-31112
END:VEVENT

END:VCALENDAR
