BEGIN:VCALENDAR
VERSION:2.0
PRODID:-//ChamberMaster//Event Calendar 2.0//EN
METHOD:PUBLISH
X-PUBLISHED-TTL:P3D
REFRESH-INTERVAL:P3D
CALSCALE:GREGORIAN
BEGIN:VEVENT
DTSTART:20070908T150000Z
DTEND:20070908T190000Z
X-MICROSOFT-CDO-ALLDAYEVENT:FALSE
SUMMARY:Safety Centre at Emergency Health Centre At Willowbrook
DESCRIPTION:Join us at our Grand Opening Events for a chance to win great prizes\, including a Disney World Family Vacation\, iPod Nanos\, Playstation PSPs\, and Webkinz toys! \n\nAppearances from Local Fire\, EMS & Police Department! At our Safety Centre\, your children will learn about back-to-school safety as well as fire safety and Stranger Danger. Car seat inspections will be available\, and we?ll have free digital ID kits for your children\, courtesy of "m.i.l.k". Managing Information on Lost Kids. It?s everything you and your family need to jump-start a safe school year!\n\nEmergencyHealthCentre.com
X-ALT-DESC;FMTTYPE=text/html:Join us at our Grand Opening Events for a chance to win great prizes\, including a Disney World Family Vacation\, iPod Nanos\, Playstation PSPs\, and Webkinz toys! \n\nAppearances from Local Fire\, EMS & Police Department! At our Safety Centre\, your children will learn about back-to-school safety as well as fire safety and Stranger Danger. Car seat inspections will be available\, and we?ll have free digital ID kits for your children\, courtesy of "m.i.l.k". Managing Information on Lost Kids. It?s everything you and your family need to jump-start a safe school year!\n\nEmergencyHealthCentre.com
LOCATION:22475 Tomball Parkway Houston\, Texas 77070 (between Louetta and Spring Cypress Rd)
UID:e.155.2312
SEQUENCE:3
DTSTAMP:20260422T030126Z
URL:https://business.tomballchamber.org/events/details/safety-centre-at-emergency-health-centre-at-willowbrook-09-08-2007-2312
END:VEVENT

END:VCALENDAR
