BEGIN:VCALENDAR
VERSION:2.0
PRODID:-//ChamberMaster//Event Calendar 2.0//EN
METHOD:PUBLISH
X-PUBLISHED-TTL:P3D
REFRESH-INTERVAL:P3D
CALSCALE:GREGORIAN
BEGIN:VEVENT
DTSTART:20080422T210000Z
DTEND:20080423T000000Z
X-MICROSOFT-CDO-ALLDAYEVENT:FALSE
SUMMARY:Ryland Homes - Open House Ribbon Cutting
DESCRIPTION:Ribbon Cutting and Open HouseRyland Homes at Treeline
X-ALT-DESC;FMTTYPE=text/html:<div>Ribbon Cutting and Open House</div><div>Ryland Homes at Treeline</div>
LOCATION:
UID:e.155.2488
SEQUENCE:3
DTSTAMP:20260421T152118Z
URL:https://business.tomballchamber.org/events/details/ryland-homes-open-house-ribbon-cutting-04-22-2008-2488
END:VEVENT

END:VCALENDAR
