BEGIN:VCALENDAR
VERSION:2.0
PRODID:-//ChamberMaster//Event Calendar 2.0//EN
METHOD:PUBLISH
X-PUBLISHED-TTL:P3D
REFRESH-INTERVAL:P3D
CALSCALE:GREGORIAN
BEGIN:VEVENT
DTSTART;VALUE=DATE:20070329
DTEND;VALUE=DATE:20070420
TRANSP:TRANSPARENT
X-MICROSOFT-CDO-ALLDAYEVENT:TRUE
SUMMARY:Rural Texas Women 1930-1960 Exhibit
DESCRIPTION:The Tomball College & Community Library is hosting a special exhibit sponsored by the Texas Council for the Humanities.  This exhibit of 51 black and white photographs gives viewers a look at the lives of rural Texas women\, the programs of the U.S. Department of Agriculture?s Extension Service\, and the nature and meaning of changes that swept across everyday life in rural Texas in the middle years of the twentieth century.
X-ALT-DESC;FMTTYPE=text/html:The Tomball College & Community Library is hosting a special exhibit sponsored by the Texas Council for the Humanities.  This exhibit of 51 black and white photographs gives viewers a look at the lives of rural Texas women\, the programs of the U.S. Department of Agriculture?s Extension Service\, and the nature and meaning of changes that swept across everyday life in rural Texas in the middle years of the twentieth century.  \n
LOCATION:Tomball College & Community Library 3055 Tomball Pkwy.
UID:e.155.1667
SEQUENCE:3
DTSTAMP:20260422T105015Z
URL:https://business.tomballchamber.org/events/details/rural-texas-women-1930-1960-exhibit-03-29-2007-1667
END:VEVENT

END:VCALENDAR
