BEGIN:VCALENDAR
VERSION:2.0
PRODID:-//ChamberMaster//Event Calendar 2.0//EN
METHOD:PUBLISH
X-PUBLISHED-TTL:P3D
REFRESH-INTERVAL:P3D
CALSCALE:GREGORIAN
BEGIN:VEVENT
DTSTART:20070830T220000Z
DTEND:20070831T000000Z
X-MICROSOFT-CDO-ALLDAYEVENT:FALSE
SUMMARY:Roy Cavazos - Farmers Insurance - Open House
DESCRIPTION:Roy Cavazos - Farmers Insurance - OPEN HOUSE and Ribbon Cutting Ceremony
X-ALT-DESC;FMTTYPE=text/html:<div>Roy Cavazos - Farmers Insurance - OPEN HOUSE</div><div>&nbsp\;and Ribbon Cutting Ceremony</div>
LOCATION:1327 W. Main StreetTomball \, Texas 77375
UID:e.155.2303
SEQUENCE:3
DTSTAMP:20260422T045449Z
URL:https://business.tomballchamber.org/events/details/roy-cavazos-farmers-insurance-open-house-08-30-2007-2303
END:VEVENT

END:VCALENDAR
