BEGIN:VCALENDAR
VERSION:2.0
PRODID:-//ChamberMaster//Event Calendar 2.0//EN
METHOD:PUBLISH
X-PUBLISHED-TTL:P3D
REFRESH-INTERVAL:P3D
CALSCALE:GREGORIAN
BEGIN:VEVENT
DTSTART:20080404T230000Z
DTEND:20080404T170000Z
X-MICROSOFT-CDO-ALLDAYEVENT:FALSE
SUMMARY:Rosehill Christian School ''Denim & Diamonds'' Auction and Gala
DESCRIPTION:Rosehill Christian School is gearing up for their Annual Gala and Auction to be held on Friday\, April 4\, 2008 at Ashelynn Manor. This year?s theme will be ?Denim & Diamonds?. The speaker for the evening will be Bill Bates. In 1997\, Dallas Cowboys Special Teams Captain\, Bill Bates\, finished his fifteenth successful season in the NFL. A member of the 1992\, 1993 & 1995 Super Bowl Champions team\, Bill has been a long time favorite of Cowboys fans. He was named the winner of the Bob Lily Award four years in a row\, from 1990-1994.\nFor information regarding table sponsorships or individual seats\, please contact Carla Seber at 281-351-8114 ext. 203 or cseber@rcseagles.org.
X-ALT-DESC;FMTTYPE=text/html:\n\nRosehill Christian School is gearing up for their Annual Gala and Auction to be held on Friday\, April 4\, 2008 at Ashelynn Manor. This year?s theme will be ?Denim & Diamonds?. The speaker for the evening will be Bill Bates. In 1997\, Dallas Cowboys Special Teams Captain\, Bill Bates\, finished his fifteenth successful season in the NFL. A member of the 1992\, 1993 & 1995 Super Bowl Champions team\, Bill has been a long time favorite of Cowboys fans. He was named the winner of the Bob Lily Award four years in a row\, from 1990-1994.\nFor information regarding table sponsorships or individual seats\, please contact Carla Seber at 281-351-8114 ext. 203 or cseber@rcseagles.org.\n\n
LOCATION:Asheynn Manor\, 25276 Nichols Sawmill Road\, Magnolia\, Texas
UID:e.155.2406
SEQUENCE:3
DTSTAMP:20260421T152041Z
URL:https://business.tomballchamber.org/events/details/rosehill-christian-school-denim-diamonds-auction-and-gala-04-04-2008-2406
END:VEVENT

END:VCALENDAR
