BEGIN:VCALENDAR
VERSION:2.0
PRODID:-//ChamberMaster//Event Calendar 2.0//EN
METHOD:PUBLISH
X-PUBLISHED-TTL:P3D
REFRESH-INTERVAL:P3D
CALSCALE:GREGORIAN
BEGIN:VEVENT
DTSTART:20080202T170000Z
DTEND:20080202T200000Z
X-MICROSOFT-CDO-ALLDAYEVENT:FALSE
SUMMARY:Romance Lovers' Valentine Social
DESCRIPTION:The Northwest Houston Romance Writers of America will be hosting a Romance Lovers' Valentine Social at the Lone Star College - Tomball and Community Library from 11:00am to 2:00pm. The public is invited to a presentation by award-winning authors\, Christi Craig and Faye Hughes\, "What Came First\, the Writer or Her Voice? 11:00am -12:00pm followed by refreshments and an opportunity to visit with over a dozen local published authors. The NWHRWA authors will present "The Path to Publication" from 12:30 - 1:30 pm. The festivities will conclude with a book signing by 16 local authors.
X-ALT-DESC;FMTTYPE=text/html:The Northwest Houston Romance Writers of America will be hosting a Romance Lovers' Valentine Social at the Lone Star College - Tomball and Community Library from 11:00am to 2:00pm. The public is invited to a presentation by award-winning authors\, Christi Craig and Faye Hughes\, "What Came First\, the Writer or Her Voice? 11:00am -12:00pm followed by refreshments and an opportunity to visit with over a dozen local published authors. The NWHRWA authors will present "The Path to Publication" from 12:30 - 1:30 pm. The festivities will conclude with a book signing by 16 local authors.  
LOCATION:Lone Star College - Tomball and Community Library
UID:e.155.2394
SEQUENCE:3
DTSTAMP:20260421T200819Z
URL:https://business.tomballchamber.org/events/details/romance-lovers-valentine-social-02-02-2008-2394
END:VEVENT

END:VCALENDAR
