BEGIN:VCALENDAR
VERSION:2.0
PRODID:-//ChamberMaster//Event Calendar 2.0//EN
METHOD:PUBLISH
X-PUBLISHED-TTL:P3D
REFRESH-INTERVAL:P3D
CALSCALE:GREGORIAN
BEGIN:VEVENT
DTSTART:20070421T190000Z
DTEND:20070421T200000Z
X-MICROSOFT-CDO-ALLDAYEVENT:FALSE
SUMMARY:Robotics
DESCRIPTION:Part of a monthly robotics series\, Tomball College Professor Antonius Bom presents ?Upgrading Your Robot" in the first floor meeting room of the Tomball College & Community Library.
X-ALT-DESC;FMTTYPE=text/html:Part of a monthly robotics series\, Tomball College Professor Antonius Bom presents ?Upgrading Your Robot" in the first floor meeting room of the Tomball College & Community Library.
LOCATION:Tomball College & Community Library 30555 Tomball Pkwy.
UID:e.155.1666
SEQUENCE:3
DTSTAMP:20260422T104327Z
URL:https://business.tomballchamber.org/events/details/robotics-04-21-2007-1666
END:VEVENT

END:VCALENDAR
