BEGIN:VCALENDAR
VERSION:2.0
PRODID:-//ChamberMaster//Event Calendar 2.0//EN
METHOD:PUBLISH
X-PUBLISHED-TTL:P3D
REFRESH-INTERVAL:P3D
CALSCALE:GREGORIAN
BEGIN:VEVENT
DTSTART:20080530T000000Z
DTEND:20080530T030000Z
X-MICROSOFT-CDO-ALLDAYEVENT:FALSE
SUMMARY:Robbie Seay Band at Main Street Crossing-Thurday May 29th
DESCRIPTION:This Thursday\, May 29th Main Street Crossing will have a special show. The Robbie Seay Band will be performing along with opening act Gatlin Elms. The Robbie Seay Band (aka RSB) is a Christian rock / worship band located in Houston. The band leads worship at Ecclesia\, a church in the Montrose area of Houston where Robbie's brother\, Chris Seay is the teaching pastor. Many of the songs on RSB's albums are inspired by events and people within Ecclesia. After releasing several independent albums\, the band was signed to Sparrow Records in 2005 and released Better Days. Their second record\, Give Yourself Away was relesed in 2007.\nThe show will start at 7:00pm. There is a $5.00 door charge for the show.
X-ALT-DESC;FMTTYPE=text/html:This Thursday\, May 29th Main Street Crossing will have a special show. The Robbie Seay Band will be performing along with opening act Gatlin Elms. The Robbie Seay Band (aka RSB) is a Christian rock / worship band located in Houston. The band leads worship at Ecclesia\, a church in the Montrose area of Houston where Robbie's brother\, Chris Seay is the teaching pastor. Many of the songs on RSB's albums are inspired by events and people within Ecclesia. After releasing several independent albums\, the band was signed to Sparrow Records in 2005 and released Better Days. Their second record\, Give Yourself Away was relesed in 2007.\nThe show will start at 7:00pm. There is a $5.00 door charge for the show.\n
LOCATION:Main Street Crossing 111 W. Main Street Tomball\, Texas 77375
UID:e.155.2521
SEQUENCE:3
DTSTAMP:20260421T150404Z
URL:https://business.tomballchamber.org/events/details/robbie-seay-band-at-main-street-crossing-thurday-may-29th-05-29-2008-2521
END:VEVENT

END:VCALENDAR
